BEGIN:VCALENDAR
VERSION:2.0
PRODID:-//Radiation Protection Institute - ECPv6.15.18//NONSGML v1.0//EN
CALSCALE:GREGORIAN
METHOD:PUBLISH
X-ORIGINAL-URL:https://rpi.gaec.gov.gh
X-WR-CALDESC:Events for Radiation Protection Institute
REFRESH-INTERVAL;VALUE=DURATION:PT1H
X-Robots-Tag:noindex
X-PUBLISHED-TTL:PT1H
BEGIN:VTIMEZONE
TZID:UTC
BEGIN:STANDARD
TZOFFSETFROM:+0000
TZOFFSETTO:+0000
TZNAME:UTC
DTSTART:20240101T000000
END:STANDARD
END:VTIMEZONE
BEGIN:VEVENT
DTSTART;TZID=UTC:20251107T080000
DTEND;TZID=UTC:20251128T170000
DTSTAMP:20260425T161014
CREATED:20250723T221814Z
LAST-MODIFIED:20250728T164254Z
UID:10270-1762502400-1764349200@rpi.gaec.gov.gh
SUMMARY:Public Engagement on Prostate Cancer
DESCRIPTION:Let’s Talk Men’s Health—Because Silence Can Be Deadly \nThis November\, RAMSRI\, in collaboration with the Ghana Medical Physics Society and the University of Ghana Medical Centre (UGMC)\, will host an engaging public session on prostate cancer. Experts from medical physics\, urology\, oncology\, and radiology will share vital information about risk factors\, early detection\, and treatment options.
URL:https://rpi.gaec.gov.gh/event/public-engagement-on-prostate-cancer/
ATTACH;FMTTYPE=image/png:https://rpi.gaec.gov.gh/wp-content/uploads/2025/07/Prostate-Cancer-Poster-EN.avif
END:VEVENT
BEGIN:VEVENT
DTSTART;TZID=UTC:20251001T080000
DTEND;TZID=UTC:20251031T170000
DTSTAMP:20260425T161014
CREATED:20250723T221716Z
LAST-MODIFIED:20250723T221716Z
UID:10268-1759305600-1761930000@rpi.gaec.gov.gh
SUMMARY:GAEC Breast Cancer Awareness Programme
DESCRIPTION:Hope\, Healing\, and Health in Every Step \nEach October\, RAMSRI\, in collaboration with the GAEC Hospital\, leads life-saving awareness campaigns during Breast Cancer Awareness Month. These events feature free public breast screenings and an energetic cancer walk\, aimed at encouraging early detection and fostering a culture of preventive healthcare. Join us in breaking the silence on breast cancer. Walk with us. Spread the word. Save lives.
URL:https://rpi.gaec.gov.gh/event/gaec-breast-cancer-awareness-programme/
LOCATION:Ghana Atomic Energy Commission\, Ghana
END:VEVENT
BEGIN:VEVENT
DTSTART;TZID=UTC:20250801T080000
DTEND;TZID=UTC:20250829T170000
DTSTAMP:20260425T161014
CREATED:20250723T221604Z
LAST-MODIFIED:20250723T221604Z
UID:10265-1754035200-1756486800@rpi.gaec.gov.gh
SUMMARY:Molecular Diagnostic Quality Assurance Workshop
DESCRIPTION:Raising the Bar in Laboratory Excellence \nRAMSRI’s Cellular and Clinical Research Centre (CCRC)\, with support from the Ghana Skills Development Fund\, will conduct a workshop aimed at enhancing the skills of laboratory professionals. The focus will be on quality assurance in molecular diagnostics because precision\, reliability\, and excellence are essential in modern healthcare. \nUpgrade your skills\, strengthen your lab\, and deliver results that matter.
URL:https://rpi.gaec.gov.gh/event/molecular-diagnostic-quality-assurance-workshop/
LOCATION:Ghana Atomic Energy Commission\, Ghana
END:VEVENT
END:VCALENDAR